BEGIN:VCALENDAR
VERSION:2.0
PRODID:-//Lil Legend Studio - ECPv6.15.20//NONSGML v1.0//EN
CALSCALE:GREGORIAN
METHOD:PUBLISH
X-WR-CALNAME:Lil Legend Studio
X-ORIGINAL-URL:https://lillegendstudio.com
X-WR-CALDESC:Events for Lil Legend Studio
REFRESH-INTERVAL;VALUE=DURATION:PT1H
X-Robots-Tag:noindex
X-PUBLISHED-TTL:PT1H
BEGIN:VTIMEZONE
TZID:UTC
BEGIN:STANDARD
TZOFFSETFROM:+0000
TZOFFSETTO:+0000
TZNAME:UTC
DTSTART:20230101T000000
END:STANDARD
END:VTIMEZONE
BEGIN:VEVENT
DTSTART;TZID=UTC:20240803T090000
DTEND;TZID=UTC:20240803T170000
DTSTAMP:20260422T115841
CREATED:20240430T105337Z
LAST-MODIFIED:20240430T113600Z
UID:14067-1722675600-1722704400@lillegendstudio.com
SUMMARY:Lil'Legend Academy: Painting Course Skin Tones and Faces
DESCRIPTION:Lil’Legend Academy: Painting Course Skin Tones and Faces\n‘Faces and bases – a lot can be forgiven in between.’ \nAnon \nAs miniature artists our choice of canvas is largely chosen for us – you buy a miniature with a screaming face\, you’re going to paint a miniature with a screaming face! But\, we can choose how to characterise the lines of our faces\, softening creases\, empahsising others\, to turn plastic into a character. \nThis one-day course is designed to take your through fundamentals of painting skin\, faces and how to create characterisaion through our choice of brush stroke. Transform those bare heads into mini characters and enjoy painting the squishy\, fleshy parts of your models again. Get rid of the fear and enjoy miniature painting. \n* \nThis is a 1-day course designed for beginner to intermediate miniature painters. \nStudents will have a miniature and workbook provided for them on the day. \nEquipment\n\nSet of brushes (you can buy a core set here and will be waiting for you at the venue).\nA selection of paints (primaries including blue\, yellow\, red\, white & black are essential\, alongside a selection of skin tone paints. More details will be supplied to students before the course.)\nWet palette (we recommend Redgrass Games Large Palette )\n\nSuggested Equipment\n\nNotepad & Pen\n\n* We do have a limited availability of all of the above. Please contact us beforehand if you cannot bring any\, or would like to try them out before purchase. If you turn up with nothing else but the shoes on your feet\, you will still be able to participate in the class. Heads will be provided by us on the day. \nHotel\nIf you’d like to stay overnight there is a hotel very close to the studio (you can throw a rock at my window from your room – it’s that close!) \n \n  \nPatreon & Academy Discounts\nIf you are a Patreon member you can claim a further 5% discount on all course tickets. This will be reimbursed to you on the day of the event(s). \nWhat is Lil’Legend Painting Academy?\nThis is a series of one-day events designed to give your miniatures painting a shot in the arm. They focus on a single topic that reinforce the fundamentals of miniature painting\, sculpting and the creative side of the hobby. Build on these fundamentals by joining our Patreon and instantly gain access to hundreds of tutorials covering simple to implement army painting materials to multi- video and PDF Masterclasses.
URL:https://lillegendstudio.com/event/lillegend-academy-painting-course-skin-tones-and-faces/
LOCATION:Glamorgan
CATEGORIES:Painting Course
ATTACH;FMTTYPE=image/jpeg:https://lillegendstudio.com/wp-content/uploads/painting-academy-skin-tones-and-face.jpg
END:VEVENT
END:VCALENDAR