BEGIN:VCALENDAR
VERSION:2.0
PRODID:-//Lil Legend Studio - ECPv6.15.20//NONSGML v1.0//EN
CALSCALE:GREGORIAN
METHOD:PUBLISH
X-ORIGINAL-URL:https://lillegendstudio.com
X-WR-CALDESC:Events for Lil Legend Studio
REFRESH-INTERVAL;VALUE=DURATION:PT1H
X-Robots-Tag:noindex
X-PUBLISHED-TTL:PT1H
BEGIN:VTIMEZONE
TZID:UTC
BEGIN:STANDARD
TZOFFSETFROM:+0000
TZOFFSETTO:+0000
TZNAME:UTC
DTSTART:20230101T000000
END:STANDARD
END:VTIMEZONE
BEGIN:VEVENT
DTSTART;TZID=UTC:20240907T090000
DTEND;TZID=UTC:20240907T170000
DTSTAMP:20260422T101758
CREATED:20240430T105603Z
LAST-MODIFIED:20240430T113537Z
UID:14073-1725699600-1725728400@lillegendstudio.com
SUMMARY:Lil'Legend Academy: Painting Course Freehand
DESCRIPTION:Lil’Legend Academy: Painting Course – Freehand\nIt’s not as hard as you think\, I promise. This course aims to demystify the entire process\, showing you a simple to follow guide on how to recreate any image\, and scale it for your tabletop miniatures. \nThis one-day course is designed to give you process – a process that can be used on any design to be translated onto your miniatures. We’ll be starting by developing simple shapes\, and showing how they can build to more complex objects through the development of colour . Get rid of the fear and enjoy miniature painting. \n* \nThis is a 1-day course designed for intermediate & advanced miniature painters. \nStudents will have a miniature and workbook provided for them on the day. \nEquipment\n\nSet of brushes (you can buy a core set here and will be waiting for you at the venue).\nA selection of paints (primaries including blue\, yellow\, red\, white & black are essential\, alongside a selection of your favourite colours. More details will be supplied to students before the course.)\nWet palette (we recommend Redgrass Games Large Palette )\n\nSuggested Equipment\n\nNotepad & Pen\n\n* We do have a limited availability of all of the above. Please contact us beforehand if you cannot bring any\, or would like to try them out before purchase. If you turn up with nothing else but the shoes on your feet\, you will still be able to participate in the class. Heads will be provided by us on the day. \nHotel\nIf you’d like to stay overnight there is a hotel very close to the studio (you can throw a rock at my window from your room – it’s that close!) \n \n  \nPatreon & Academy Discounts\nIf you are a Patreon member you can claim a further 5% discount on all course tickets. This will be reimbursed to you on the day of the event(s). \nWhat is Lil’Legend Painting Academy?\nThis is a series of one-day events designed to give your miniatures painting a shot in the arm. They focus on a single topic that reinforce the fundamentals of miniature painting\, sculpting and the creative side of the hobby. Build on these fundamentals by joining our Patreon and instantly gain access to hundreds of tutorials covering simple to implement army painting materials to multi- video and PDF Masterclasses.
URL:https://lillegendstudio.com/event/lillegend-academy-painting-course-freehand/
LOCATION:Glamorgan
CATEGORIES:Painting Course
ATTACH;FMTTYPE=image/jpeg:https://lillegendstudio.com/wp-content/uploads/painting-academy-freehand.jpg
END:VEVENT
END:VCALENDAR