BEGIN:VCALENDAR
VERSION:2.0
PRODID:-//Lil Legend Studio - ECPv6.15.20//NONSGML v1.0//EN
CALSCALE:GREGORIAN
METHOD:PUBLISH
X-ORIGINAL-URL:https://lillegendstudio.com
X-WR-CALDESC:Events for Lil Legend Studio
REFRESH-INTERVAL;VALUE=DURATION:PT1H
X-Robots-Tag:noindex
X-PUBLISHED-TTL:PT1H
BEGIN:VTIMEZONE
TZID:UTC
BEGIN:STANDARD
TZOFFSETFROM:+0000
TZOFFSETTO:+0000
TZNAME:UTC
DTSTART:20240101T000000
END:STANDARD
END:VTIMEZONE
BEGIN:VEVENT
DTSTART;VALUE=DATE:20250419
DTEND;VALUE=DATE:20250421
DTSTAMP:20260421T234039
CREATED:20240430T111555Z
LAST-MODIFIED:20241119T104251Z
UID:14088-1745020800-1745193599@lillegendstudio.com
SUMMARY:HOBBY PAINTING CHALLENGE WEEKEND: DREADNOUGHTS
DESCRIPTION:We’ve all got them in the pile of opportunity\, those boxes of dreadnoughts waiting to be painted. We’ll grab a ticket and head to South Wales for our FIRST challenge weekend – DREADNOUGHTS. \nBy the end of the weekend you will have painted a dreadnought to a professional standard. Learn all the tricks\, tips and theory you can apply to EVERY dreadnought you will paint! \nGet rid of the fear and enjoy miniature painting. \n* \nThis is a 2-day course designed for beginner all the way to skilled miniature painters. \nStudents will have a workbook provided for them on the day. \nEquipment\n\nSet of brushes (you can buy a core set here and will be waiting for you at the venue).  Make sure they include a set of dry brushes and crappy brushes for chipping.\nA selection of paints (primaries including blue\, yellow\, red\, white & black as well as paints for your chosen legion/chapter of choice. We’ll have a chat about recipes on the run up to the course to make sure you have everything you need).\nWet palette (we recommend Redgrass Games Large Palette )\nAirbrush and Compressor with holder.\nAcrylic Thinner and airbrush cleaning solution.\nWeathering powder (a good selection of browns to greys would be ideal).\nPaper Towels.\nA build and primed CONTEMPTOR DREADNOUGHT (preparatory materials will be sent beforehand as well as advice on how to pose your Dreadnought for the course).\n\nSuggested Equipment\n\nNotepad & Pen\n\n* We do have a limited availability of all of the above. Please get in touch with us beforehand if you cannot bring any\, or would like to try them out before purchase. If you turn up with nothing else but the shoes on your feet\, you will still be able to participate in the class. \nHotel\nIf you’d like to stay overnight there is a hotel very close to the studio (you can throw a rock at my window from your room – it’s that close!) \n \nWhat are the Hobby Challenge Weekends?\nGet your stuff painted! That’s the thrust of the weekend. Grab that pile of opportunity and learn how to throw pigment at it. Each weekend is geared around a theme with a structure determined by the instructor to get your sh*t painted! This is a collaborative experience\, with an expert there to give you individualized feedback on your work. Class sizes are smaller to ensure each student gets extended feedback on their work during the weekend. \nJoin your fellow paint-o-naughts and crack out a gorgeous miniature to a professional standard.     \n  \nPrevious Student’s Work \n 
URL:https://lillegendstudio.com/event/hobby-painting-challenge-weekend-dreadnoughts/
LOCATION:Lil’Legend Studio\, Unit 14 J Shed\, Swasnea\, Glamorgan\, SA1 8PL\, United Kingdom
CATEGORIES:Painting Course
ATTACH;FMTTYPE=image/jpeg:https://lillegendstudio.com/wp-content/uploads/HOBBY-CHALLENGE-dreadnought-alt-copy.jpg
ORGANIZER;CN="Myles David":MAILTO:lillegendstudio@gmail.com
END:VEVENT
END:VCALENDAR